BEGIN:VCALENDAR
VERSION:2.0
PRODID:-//NOACSS - ECPv6.15.20//NONSGML v1.0//EN
CALSCALE:GREGORIAN
METHOD:PUBLISH
X-ORIGINAL-URL:https://noacss.pk
X-WR-CALDESC:Events for NOACSS
REFRESH-INTERVAL;VALUE=DURATION:PT1H
X-Robots-Tag:noindex
X-PUBLISHED-TTL:PT1H
BEGIN:VTIMEZONE
TZID:UTC
BEGIN:STANDARD
TZOFFSETFROM:+0000
TZOFFSETTO:+0000
TZNAME:UTC
DTSTART:20250101T000000
END:STANDARD
END:VTIMEZONE
BEGIN:VEVENT
DTSTART;TZID=UTC:20260118T180000
DTEND;TZID=UTC:20260118T210000
DTSTAMP:20260420T121826
CREATED:20250205T130408Z
LAST-MODIFIED:20260112T141905Z
UID:17990-1768759200-1768770000@noacss.pk
SUMMARY:Free Online Seminar for PMS-KPK Preparation – NOA | PMS-KPK2025 | Online And On-Campus batch
DESCRIPTION:NOA | PMS-KPK | Free Webinar\n18th January\,2026 (Sunday)\nNational Officers Academy offers Free Online Webinar for PMS-KP at 6:00pm to 9:00pm live at ZOOM ID:https://us06web.zoom.us/j/82098432898 \n√ Class time: 6:00pm to 9:00pm \n√ Fee for On-Campus Classes : 100000/= \n√ Fee for Online Classes : 90000/- \n* Complete 3.5 Months Online & On Campus Course covering Compulsory and Optional Subjects including Mock Examination \n* Register Now\nFor Free Registeration:\nhttps://lms.noacss.pk/register \n* Address: NOA Main Campus Islamabad\, Plot# 3-D\,Madina Centre\,G-10/4\,Islamabad. \n* Fee submission procedure for Online Batch:\nSubmit fee in\nBank name: Alfalah Bank\nAccount Title: NOA Institute(SMC) Pvt.ltd\nAccount Number: 55305001360545\nBranch code: 5530\nBank Alfalah\, G10 \, Islamabad\nNote: After depositing fee\, send your payment proof on this number: 03235045013 along with the following details:\nName\nFather’s name\nCNIC Number\nEmail address\nContact number\nWhatsApp number\nBatch#(Time Slot)\nCourse Selected \n* FEE Submission For On Campus Batch:\nPlease Visit Concerned Campus and Submit Cash Fee at Campus Account Office in which Admission is Required\nIn Case of Any Ambiguity:\nUAN: 051 – 111 – 662 – 277\nVisit : www.noacss.pk\nEmail- info@noacss.pk \n#noacss #pmskpk #css2027 #css2028 #noaacademy #islamabad #rawalpindi #lahore #csspreparation #fpsc #pakistan #noafamily #noacssacademy #Discount #peshawer #karachi #faisalabad #sindh #punjab
URL:https://noacss.pk/event/free-online-seminar-for-pms-kpk-preparation-noa-pms-kpk2025-online-and-on-campus-batch/
LOCATION:Online\, Islamabad\, 46000\, Pakistan
CATEGORIES:New Sessions for CSS
ATTACH;FMTTYPE=image/jpeg:https://noacss.pk/wp-content/uploads/2025/02/kppms-4.jpeg
END:VEVENT
END:VCALENDAR