BEGIN:VCALENDAR
VERSION:2.0
PRODID:-//NOACSS - ECPv6.15.20//NONSGML v1.0//EN
CALSCALE:GREGORIAN
METHOD:PUBLISH
X-ORIGINAL-URL:https://noacss.pk
X-WR-CALDESC:Events for NOACSS
REFRESH-INTERVAL;VALUE=DURATION:PT1H
X-Robots-Tag:noindex
X-PUBLISHED-TTL:PT1H
BEGIN:VTIMEZONE
TZID:UTC
BEGIN:STANDARD
TZOFFSETFROM:+0000
TZOFFSETTO:+0000
TZNAME:UTC
DTSTART:20250101T000000
END:STANDARD
END:VTIMEZONE
BEGIN:VEVENT
DTSTART;TZID=UTC:20260422T180000
DTEND;TZID=UTC:20260422T200000
DTSTAMP:20260420T171936
CREATED:20250730T133323Z
LAST-MODIFIED:20260410T134717Z
UID:18705-1776880800-1776888000@noacss.pk
SUMMARY:NOA | Thought-Flow English Writing System Specially Designed For CSS/PMS Aspirants
DESCRIPTION:NOA | THOUGHT-FLOW ENGLISH WRITING SYSTEM\n(Specially designed for CSS/PMS struggling aspirants) \n22nd April\,2026(Wednesday)\nNational Officers Academy offers Free Webinar at 6:00pm to 8pm by Sir Mazhar Ellahi live at Zoom meeting Id: https://us06web.zoom.us/j/87290836220 \n* Duration : 6 Weeks Online \n* Fee : 20000/-Rs \n* Class timings : 11:00am to 1:00pm(Monday\,Wednesday & Friday) \n* Register free at : https://lms.noacss.pk/register \n* What it includes?\n√ Removing fear of English writing\n√ Building confidence for idea generation\n√ Developing clear and structured thinking\n√ Mastering writing Skills\n√ Improving grammar and vocabulary while learning to write\n√ Mock exercises\n√ Turning a student from being a “confused writer” to a “confident performer”. \nFee submission procedure\nSubmit fee in\nBank name: Alfalah Bank\nAccount Title: NOA Institute(SMC) Pvt.ltd\nAccount Number:55305001360545\nBranch code: 5530\nBank Alfalah\, G10 \, Islamabad\nNote: After depositing fee\, send your payment proof on this number: 03235045013 along with the following details:\nName\nFather’s name\nCNIC Number\nEmail address\nContact number\nWhatsApp number\nBatch#(Time Slot)\nCourse Selected \n#CSS2026#CSS2027#NOACSS#PMS#Tehslidar#Descriptive#Islamabad#Rawalpindi#Lahore#Mock#noacssacademy#Pakistan#NOAFamily
URL:https://noacss.pk/event/noa-thought-flow-english-writing-system-specially-designed-for-css-pms-aspirants/
LOCATION:Online\, Islamabad\, 46000\, Pakistan
CATEGORIES:New Sessions for CSS
ATTACH;FMTTYPE=image/jpeg:https://noacss.pk/wp-content/uploads/2025/07/Thought-Flow.jpeg
END:VEVENT
BEGIN:VEVENT
DTSTART;TZID=UTC:20260424T180000
DTEND;TZID=UTC:20260424T210000
DTSTAMP:20260420T171936
CREATED:20250411T095227Z
LAST-MODIFIED:20260413T111030Z
UID:18189-1777053600-1777064400@noacss.pk
SUMMARY:Exclusive English Essay & Precis On Campus Batch for CSS/PMS NOA Main Islamabad Campus
DESCRIPTION:Exclusive English Essay & Precis On Campus Batch for CSS/PMS by Sir Nafees Ahmad \n* Date: 24th APR\, 2026\n• Time: 3:00pm to 5:00pm \n• Duration: 45 days\n* Fee : 35000/ \n* Register Free at https://lms.noacss.pk/register \n📍Venue: NOA CSS Islamabad Campus-1\, 3-D Madina Centre\, 3rd Road\, G10/4\, Islamabad Location: https://maps.app.goo.gl/toN4xx3XNj9r8HWz8 \n* For details\nCall 📱+92 318 5703311\nUAN☎️ 051-111-662-277 \nVisit www.noacss.pk \n#noacssacademy #noaenglishachool #English #Essay #precis
URL:https://noacss.pk/event/exclusive-english-essay-precis-on-campus-batch-for-css-pms-noa-main-islamabad-campus/
LOCATION:National Officers Academy Islamabad\, National Officers Academy ( NOA CSS ) New Campus\, Islamabad\, 46000\, Pakistan
CATEGORIES:New Sessions for CSS
ATTACH;FMTTYPE=image/jpeg:https://noacss.pk/wp-content/uploads/2025/04/English-Essay-Precis.jpeg
END:VEVENT
BEGIN:VEVENT
DTSTART;TZID=UTC:20260426T180000
DTEND;TZID=UTC:20260426T210000
DTSTAMP:20260420T171936
CREATED:20251208T092041Z
LAST-MODIFIED:20260410T113559Z
UID:11764-1777226400-1777237200@noacss.pk
SUMMARY:NOA | CSS2027 | Free Online Webinar Screening Test Written Preparation
DESCRIPTION:NOA|CSS2027|Free Online Seminar\n26th April\, 2026(Sunday)\nNational Officer Academy Offers\nFree Online Seminar for Screening Test & Written Preparation CSS 2027 at 6:00pm to 9:00pm by Sir M Ali Khan(DC) live at ZOOM ID:86501865142 or click\nZoom Link: https://us06web.zoom.us/j/86501865142\nComplete 4.5 Months Online & On Campus Course covering Screening Test\, Compulsory & Optional Subjects with Mock Examination\nFree Registration: https://lms.noacss.pk/register\nDear Aspirants!\nBe the First one to Join CSS2027 Session and Become Part of NOA Family of ~1545 CSS/PMS officers \nTime Slot Offered in Online Batch 93 & 94\nTime offered Batch 93 at\n6:00Pm & Batch 94 at 2.30pm\nFee structure & Courses Offered \nONLINE BATCH 93 & 94\nFee for 4.5 Month Online Complete Course(Screening+ all Subjects) Rs:110000\nOnly Compulsory Rs: 70000 \nON Campus fee\n– Fee for 4.5 month Complete Course RS: 120000\n– Only Compulsory Rs: 80000\nOn Campus Batch Dates \nIslamabad Campus-1(Main Campus) 29th April\, 2026 at 2:30pm & 6:00Pm \nRawalpindi-1 Campus(Rehmanabad) 30th April at 6pm \nLahore Campus 29th April at 2:30pm \nRawalpindi-2 Campus(Westridge) 1st May at 6pm \n*Fee submission procedure for Online Batch 93 & 94\nSubmit fee in\nBank name: Alfalah Bank\nAccount Title: NOA Institute(SMC) Pvt.ltd\nAccount Number:5001360545\nBranch code: 5530\nBank Alfalah\, G10 \, Islamabad\nNote: After depositing fee\, send your payment proof on this number: 03235045013 along with the following details:\nName\nFather’s name\nCNIC Number\nEmail address\nContact number\nWhatsApp number\nBatch#(Time Slot)\nCourse Selected\nFEE Submission For On Campus Batches\nPlease Visit Concerned Campus and Submit Cash Fee at Campus Account Office in which Admission is Required\nIn Case of Any Ambiguity:\nUAN: 051 – 111 – 662 – 277\nVisit : www.noacss.pk\nEmail- info@noacss.pk\nMob: 03235045013\nTele: 051111 662 277\n#css2028 #CSS2026 #CSS2027 #noacss #noacssacademy #noaacademy #islamabad #rawalpindi #lahore #csspreparation #fpsc #pakistan #noafamily #noacsspreparation #Discount #peshawer #karachi #faisalabad #sindh #Lahore #Hyderabad #kpk #gilgit #noaacademy
URL:https://noacss.pk/event/noa-css2027-free-online-webinar-screening-test-written-preparation/
LOCATION:Online\, Islamabad\, 46000\, Pakistan
CATEGORIES:New Sessions for CSS
ATTACH;FMTTYPE=image/jpeg:https://noacss.pk/wp-content/uploads/2025/12/Free-Webinar.jpeg
END:VEVENT
BEGIN:VEVENT
DTSTART;TZID=UTC:20260429T143000
DTEND;TZID=UTC:20260429T180000
DTSTAMP:20260420T171936
CREATED:20220305T095355Z
LAST-MODIFIED:20260410T113816Z
UID:11768-1777473000-1777485600@noacss.pk
SUMMARY:On Campus Regular Class for CSS2027 Screening Test & Written Preparation at NOA Main Islamabad Campus
DESCRIPTION:NOA|CSS2027|Free Online Seminar\n26th April\, 2026(Sunday)\nNational Officer Academy Offers\nFree Online Seminar for Screening Test & Written Preparation CSS 2027 at 6:00pm to 9:00pm by Sir M Ali Khan(DC) live at ZOOM ID:86501865142 or click\nZoom Link: https://us06web.zoom.us/j/86501865142\nComplete 4.5 Months Online & On Campus Course covering Screening Test\, Compulsory & Optional Subjects with Mock Examination\nFree Registration: https://lms.noacss.pk/register\nDear Aspirants!\nBe the First one to Join CSS2027 Session and Become Part of NOA Family of ~1545 CSS/PMS officers \nTime Slot Offered in Online Batch 93 & 94\nTime offered Batch 93 at\n6:00Pm & Batch 94 at 2.30pm\nFee structure & Courses Offered \nONLINE BATCH 93 & 94\nFee for 4.5 Month Online Complete Course(Screening+ all Subjects) Rs:110000\nOnly Compulsory Rs: 70000 \nON Campus fee\n– Fee for 4.5 month Complete Course RS: 120000\n– Only Compulsory Rs: 80000\nOn Campus Batch Dates \nIslamabad Campus-1(Main Campus) 29th April\, 2026 at 2:30pm & 6:00Pm \nRawalpindi-1 Campus(Rehmanabad) 30th April at 6pm \nLahore Campus 29th April at 2:30pm \nRawalpindi-2 Campus(Westridge) 1st May at 6pm \n*Fee submission procedure for Online Batch 93 & 94\nSubmit fee in\nBank name: Alfalah Bank\nAccount Title: NOA Institute(SMC) Pvt.ltd\nAccount Number:5001360545\nBranch code: 5530\nBank Alfalah\, G10 \, Islamabad\nNote: After depositing fee\, send your payment proof on this number: 03235045013 along with the following details:\nName\nFather’s name\nCNIC Number\nEmail address\nContact number\nWhatsApp number\nBatch#(Time Slot)\nCourse Selected\nFEE Submission For On Campus Batches\nPlease Visit Concerned Campus and Submit Cash Fee at Campus Account Office in which Admission is Required\nIn Case of Any Ambiguity:\nUAN: 051 – 111 – 662 – 277\nVisit : www.noacss.pk\nEmail- info@noacss.pk\nMob: 03235045013\nTele: 051111 662 277\n#css2028 #CSS2026 #CSS2027 #noacss #noacssacademy #noaacademy #islamabad #rawalpindi #lahore #csspreparation #fpsc #pakistan #noafamily #noacsspreparation #Discount #peshawer #karachi #faisalabad #sindh #Lahore #Hyderabad #kpk #gilgit #noaacademy
URL:https://noacss.pk/event/on-campus-regular-class-for-css2027-screening-test-written-preparation-at-noa-main-islamabad-campus/
LOCATION:National Officers Academy Islamabad\, National Officers Academy ( NOA CSS ) New Campus\, Islamabad\, 46000\, Pakistan
CATEGORIES:New Sessions for CSS
ATTACH;FMTTYPE=image/jpeg:https://noacss.pk/wp-content/uploads/2022/03/Islamabad.jpeg
END:VEVENT
BEGIN:VEVENT
DTSTART;TZID=UTC:20260429T180000
DTEND;TZID=UTC:20260429T210000
DTSTAMP:20260420T171936
CREATED:20210623T093550Z
LAST-MODIFIED:20260410T113807Z
UID:10059-1777485600-1777496400@noacss.pk
SUMMARY:On Campus Regular Class for CSS2027 Screening Test Written & Preparation at NOA Lahore Campus
DESCRIPTION:NOA|CSS2027|Free Online Seminar\n26th April\, 2026(Sunday)\nNational Officer Academy Offers\nFree Online Seminar for Screening Test & Written Preparation CSS 2027 at 6:00pm to 9:00pm by Sir M Ali Khan(DC) live at ZOOM ID:86501865142 or click\nZoom Link: https://us06web.zoom.us/j/86501865142\nComplete 4.5 Months Online & On Campus Course covering Screening Test\, Compulsory & Optional Subjects with Mock Examination\nFree Registration: https://lms.noacss.pk/register\nDear Aspirants!\nBe the First one to Join CSS2027 Session and Become Part of NOA Family of ~1545 CSS/PMS officers \nTime Slot Offered in Online Batch 93 & 94\nTime offered Batch 93 at\n6:00Pm & Batch 94 at 2.30pm\nFee structure & Courses Offered \nONLINE BATCH 93 & 94\nFee for 4.5 Month Online Complete Course(Screening+ all Subjects) Rs:110000\nOnly Compulsory Rs: 70000 \nON Campus fee\n– Fee for 4.5 month Complete Course RS: 120000\n– Only Compulsory Rs: 80000\nOn Campus Batch Dates \nIslamabad Campus-1(Main Campus) 29th April\, 2026 at 2:30pm & 6:00Pm \nRawalpindi-1 Campus(Rehmanabad) 30th April at 6pm \nLahore Campus 29th April at 2:30pm \nRawalpindi-2 Campus(Westridge) 1st May at 6pm \n*Fee submission procedure for Online Batch 93 & 94\nSubmit fee in\nBank name: Alfalah Bank\nAccount Title: NOA Institute(SMC) Pvt.ltd\nAccount Number:5001360545\nBranch code: 5530\nBank Alfalah\, G10 \, Islamabad\nNote: After depositing fee\, send your payment proof on this number: 03235045013 along with the following details:\nName\nFather’s name\nCNIC Number\nEmail address\nContact number\nWhatsApp number\nBatch#(Time Slot)\nCourse Selected\nFEE Submission For On Campus Batches\nPlease Visit Concerned Campus and Submit Cash Fee at Campus Account Office in which Admission is Required\nIn Case of Any Ambiguity:\nUAN: 051 – 111 – 662 – 277\nVisit : www.noacss.pk\nEmail- info@noacss.pk\nMob: 03235045013\nTele: 051111 662 277\n#css2028 #CSS2026 #CSS2027 #noacss #noacssacademy #noaacademy #islamabad #rawalpindi #lahore #csspreparation #fpsc #pakistan #noafamily #noacsspreparation #Discount #peshawer #karachi #faisalabad #sindh #Lahore #Hyderabad #kpk #gilgit #noaacademy
URL:https://noacss.pk/event/on-campus-regular-class-for-css2027-screening-test-written-preparation-at-noa-lahore-campus/
LOCATION:National Officers Academy Lahore Campus\, 61-B\,Shoukat Khanum Road\, Near Allah Hoo Chowk\, Johar Town\, Lahore\, Punjab\, 46000\, Pakistan
CATEGORIES:New Sessions for CSS
ATTACH;FMTTYPE=image/jpeg:https://noacss.pk/wp-content/uploads/2021/06/Lahore.jpeg
END:VEVENT
BEGIN:VEVENT
DTSTART;TZID=UTC:20260430T180000
DTEND;TZID=UTC:20260430T210000
DTSTAMP:20260420T171936
CREATED:20210623T094444Z
LAST-MODIFIED:20260410T113859Z
UID:10062-1777572000-1777582800@noacss.pk
SUMMARY:On Campus Regular Class for CSS2027 Screening Test & Written Preparation at NOA Rawalpindi Rehmanabad Campus
DESCRIPTION:NOA|CSS2027|Free Online Seminar\n26th April\, 2026(Sunday)\nNational Officer Academy Offers\nFree Online Seminar for Screening Test & Written Preparation CSS 2027 at 6:00pm to 9:00pm by Sir M Ali Khan(DC) live at ZOOM ID:86501865142 or click\nZoom Link: https://us06web.zoom.us/j/86501865142\nComplete 4.5 Months Online & On Campus Course covering Screening Test\, Compulsory & Optional Subjects with Mock Examination\nFree Registration: https://lms.noacss.pk/register\nDear Aspirants!\nBe the First one to Join CSS2027 Session and Become Part of NOA Family of ~1545 CSS/PMS officers \nTime Slot Offered in Online Batch 93 & 94\nTime offered Batch 93 at\n6:00Pm & Batch 94 at 2.30pm\nFee structure & Courses Offered \nONLINE BATCH 93 & 94\nFee for 4.5 Month Online Complete Course(Screening+ all Subjects) Rs:110000\nOnly Compulsory Rs: 70000 \nON Campus fee\n– Fee for 4.5 month Complete Course RS: 120000\n– Only Compulsory Rs: 80000\nOn Campus Batch Dates \nIslamabad Campus-1(Main Campus) 29th April\, 2026 at 2:30pm & 6:00Pm \nRawalpindi-1 Campus(Rehmanabad) 30th April at 6pm \nLahore Campus 29th April at 2:30pm \nRawalpindi-2 Campus(Westridge) 1st May at 6pm \n*Fee submission procedure for Online Batch 93 & 94\nSubmit fee in\nBank name: Alfalah Bank\nAccount Title: NOA Institute(SMC) Pvt.ltd\nAccount Number:5001360545\nBranch code: 5530\nBank Alfalah\, G10 \, Islamabad\nNote: After depositing fee\, send your payment proof on this number: 03235045013 along with the following details:\nName\nFather’s name\nCNIC Number\nEmail address\nContact number\nWhatsApp number\nBatch#(Time Slot)\nCourse Selected\nFEE Submission For On Campus Batches\nPlease Visit Concerned Campus and Submit Cash Fee at Campus Account Office in which Admission is Required\nIn Case of Any Ambiguity:\nUAN: 051 – 111 – 662 – 277\nVisit : www.noacss.pk\nEmail- info@noacss.pk\nMob: 03235045013\nTele: 051111 662 277\n#css2028 #CSS2026 #CSS2027 #noacss #noacssacademy #noaacademy #islamabad #rawalpindi #lahore #csspreparation #fpsc #pakistan #noafamily #noacsspreparation #Discount #peshawer #karachi #faisalabad #sindh #Lahore #Hyderabad #kpk #gilgit #noaacademy
URL:https://noacss.pk/event/on-campus-regular-class-for-css2027-screening-test-written-preparation-at-noa-rawalpindi-rehmanabad-campus/
LOCATION:National Officers Academy Rawalpindi Campus-1\, 3rd floor\, Wallayat Plaza\, Metro Rehmanabad Station\, Murree Road\, Rawalpindi\, Punjab\, 46000\, Pakistan
CATEGORIES:New Sessions for CSS
ATTACH;FMTTYPE=image/jpeg:https://noacss.pk/wp-content/uploads/2021/06/Rehmanabad.jpeg
END:VEVENT
BEGIN:VEVENT
DTSTART;TZID=UTC:20260501T180000
DTEND;TZID=UTC:20260501T210000
DTSTAMP:20260420T171936
CREATED:20210623T095015Z
LAST-MODIFIED:20260410T113938Z
UID:10066-1777658400-1777669200@noacss.pk
SUMMARY:On Campus Regular Class for CSS2027 Screening Test & Written Preparation at NOA Rawalpindi Westridge Campus
DESCRIPTION:NOA|CSS2027|Free Online Seminar\n26th April\, 2026(Sunday)\nNational Officer Academy Offers\nFree Online Seminar for Screening Test & Written Preparation CSS 2027 at 6:00pm to 9:00pm by Sir M Ali Khan(DC) live at ZOOM ID:86501865142 or click\nZoom Link: https://us06web.zoom.us/j/86501865142\nComplete 4.5 Months Online & On Campus Course covering Screening Test\, Compulsory & Optional Subjects with Mock Examination\nFree Registration: https://lms.noacss.pk/register\nDear Aspirants!\nBe the First one to Join CSS2027 Session and Become Part of NOA Family of ~1545 CSS/PMS officers \nTime Slot Offered in Online Batch 93 & 94\nTime offered Batch 93 at\n6:00Pm & Batch 94 at 2.30pm\nFee structure & Courses Offered \nONLINE BATCH 93 & 94\nFee for 4.5 Month Online Complete Course(Screening+ all Subjects) Rs:110000\nOnly Compulsory Rs: 70000 \nON Campus fee\n– Fee for 4.5 month Complete Course RS: 120000\n– Only Compulsory Rs: 80000\nOn Campus Batch Dates \nIslamabad Campus-1(Main Campus) 29th April\, 2026 at 2:30pm & 6:00Pm \nRawalpindi-1 Campus(Rehmanabad) 30th April at 6pm \nLahore Campus 29th April at 2:30pm \nRawalpindi-2 Campus(Westridge) 1st May at 6pm \n*Fee submission procedure for Online Batch 93 & 94\nSubmit fee in\nBank name: Alfalah Bank\nAccount Title: NOA Institute(SMC) Pvt.ltd\nAccount Number:5001360545\nBranch code: 5530\nBank Alfalah\, G10 \, Islamabad\nNote: After depositing fee\, send your payment proof on this number: 03235045013 along with the following details:\nName\nFather’s name\nCNIC Number\nEmail address\nContact number\nWhatsApp number\nBatch#(Time Slot)\nCourse Selected\nFEE Submission For On Campus Batches\nPlease Visit Concerned Campus and Submit Cash Fee at Campus Account Office in which Admission is Required\nIn Case of Any Ambiguity:\nUAN: 051 – 111 – 662 – 277\nVisit : www.noacss.pk\nEmail- info@noacss.pk\nMob: 03235045013\nTele: 051111 662 277\n#css2028 #CSS2026 #CSS2027 #noacss #noacssacademy #noaacademy #islamabad #rawalpindi #lahore #csspreparation #fpsc #pakistan #noafamily #noacsspreparation #Discount #peshawer #karachi #faisalabad #sindh #Lahore #Hyderabad #kpk #gilgit #noaacademy
URL:https://noacss.pk/event/on-campus-regular-class-for-css2027-screening-test-written-preparation-at-noa-rawalpindi-westridge-campus/
LOCATION:Rawalpindi Westridge Campus\, 148A\, Opposite Raffay Mall\, Main Peshawer Road Westridge-1\, Rawalpindi\, Punjab\, 46000\, Pakistan
CATEGORIES:New Sessions for CSS
ATTACH;FMTTYPE=image/jpeg:https://noacss.pk/wp-content/uploads/2021/06/Westridge.jpeg
END:VEVENT
END:VCALENDAR