BEGIN:VCALENDAR
VERSION:2.0
PRODID:-//NOACSS - ECPv6.15.20//NONSGML v1.0//EN
CALSCALE:GREGORIAN
METHOD:PUBLISH
X-ORIGINAL-URL:https://noacss.pk
X-WR-CALDESC:Events for NOACSS
REFRESH-INTERVAL;VALUE=DURATION:PT1H
X-Robots-Tag:noindex
X-PUBLISHED-TTL:PT1H
BEGIN:VTIMEZONE
TZID:UTC
BEGIN:STANDARD
TZOFFSETFROM:+0000
TZOFFSETTO:+0000
TZNAME:UTC
DTSTART:20250101T000000
END:STANDARD
END:VTIMEZONE
BEGIN:VEVENT
DTSTART;TZID=UTC:20260422T180000
DTEND;TZID=UTC:20260422T200000
DTSTAMP:20260420T230718
CREATED:20250730T133323Z
LAST-MODIFIED:20260410T134717Z
UID:18705-1776880800-1776888000@noacss.pk
SUMMARY:NOA | Thought-Flow English Writing System Specially Designed For CSS/PMS Aspirants
DESCRIPTION:NOA | THOUGHT-FLOW ENGLISH WRITING SYSTEM\n(Specially designed for CSS/PMS struggling aspirants) \n22nd April\,2026(Wednesday)\nNational Officers Academy offers Free Webinar at 6:00pm to 8pm by Sir Mazhar Ellahi live at Zoom meeting Id: https://us06web.zoom.us/j/87290836220 \n* Duration : 6 Weeks Online \n* Fee : 20000/-Rs \n* Class timings : 11:00am to 1:00pm(Monday\,Wednesday & Friday) \n* Register free at : https://lms.noacss.pk/register \n* What it includes?\n√ Removing fear of English writing\n√ Building confidence for idea generation\n√ Developing clear and structured thinking\n√ Mastering writing Skills\n√ Improving grammar and vocabulary while learning to write\n√ Mock exercises\n√ Turning a student from being a “confused writer” to a “confident performer”. \nFee submission procedure\nSubmit fee in\nBank name: Alfalah Bank\nAccount Title: NOA Institute(SMC) Pvt.ltd\nAccount Number:55305001360545\nBranch code: 5530\nBank Alfalah\, G10 \, Islamabad\nNote: After depositing fee\, send your payment proof on this number: 03235045013 along with the following details:\nName\nFather’s name\nCNIC Number\nEmail address\nContact number\nWhatsApp number\nBatch#(Time Slot)\nCourse Selected \n#CSS2026#CSS2027#NOACSS#PMS#Tehslidar#Descriptive#Islamabad#Rawalpindi#Lahore#Mock#noacssacademy#Pakistan#NOAFamily
URL:https://noacss.pk/event/noa-thought-flow-english-writing-system-specially-designed-for-css-pms-aspirants/
LOCATION:Online\, Islamabad\, 46000\, Pakistan
CATEGORIES:New Sessions for CSS
ATTACH;FMTTYPE=image/jpeg:https://noacss.pk/wp-content/uploads/2025/07/Thought-Flow.jpeg
END:VEVENT
BEGIN:VEVENT
DTSTART;TZID=UTC:20260424T180000
DTEND;TZID=UTC:20260424T210000
DTSTAMP:20260420T230718
CREATED:20250411T095227Z
LAST-MODIFIED:20260413T111030Z
UID:18189-1777053600-1777064400@noacss.pk
SUMMARY:Exclusive English Essay & Precis On Campus Batch for CSS/PMS NOA Main Islamabad Campus
DESCRIPTION:Exclusive English Essay & Precis On Campus Batch for CSS/PMS by Sir Nafees Ahmad \n* Date: 24th APR\, 2026\n• Time: 3:00pm to 5:00pm \n• Duration: 45 days\n* Fee : 35000/ \n* Register Free at https://lms.noacss.pk/register \n📍Venue: NOA CSS Islamabad Campus-1\, 3-D Madina Centre\, 3rd Road\, G10/4\, Islamabad Location: https://maps.app.goo.gl/toN4xx3XNj9r8HWz8 \n* For details\nCall 📱+92 318 5703311\nUAN☎️ 051-111-662-277 \nVisit www.noacss.pk \n#noacssacademy #noaenglishachool #English #Essay #precis
URL:https://noacss.pk/event/exclusive-english-essay-precis-on-campus-batch-for-css-pms-noa-main-islamabad-campus/
LOCATION:National Officers Academy Islamabad\, National Officers Academy ( NOA CSS ) New Campus\, Islamabad\, 46000\, Pakistan
CATEGORIES:New Sessions for CSS
ATTACH;FMTTYPE=image/jpeg:https://noacss.pk/wp-content/uploads/2025/04/English-Essay-Precis.jpeg
END:VEVENT
END:VCALENDAR